BEGIN:VCALENDAR
VERSION:2.0
METHOD:PUBLISH
X-WR-CALNAME: Calendar | SV Dynamo Apeldoorn
PRODID:-//Drupal iCal API//EN
BEGIN:VEVENT
UID:calendar.19026.field_date_repeat.0.0
SUMMARY:Verg. BB STD
DTSTAMP:20260420T084904Z
DTSTART:20250226T183000Z
DTEND:20250226T200000Z
URL;VALUE=URI:https://svdynamo.nl/node/19026
END:VEVENT
END:VCALENDAR
