BEGIN:VCALENDAR
VERSION:2.0
METHOD:PUBLISH
X-WR-CALNAME: Calendar | SV Dynamo Apeldoorn
PRODID:-//Drupal iCal API//EN
BEGIN:VEVENT
UID:calendar.19025.field_date_repeat.0.0
SUMMARY:Verg. BB STD
DTSTAMP:20260419T215725Z
DTSTART:20250122T183000Z
DTEND:20250122T200000Z
URL;VALUE=URI:https://svdynamo.nl/node/19025
END:VEVENT
BEGIN:VEVENT
UID:calendar.19026.field_date_repeat.0.1
SUMMARY:Verg. BB STD
DTSTAMP:20260419T215725Z
DTSTART:20250226T183000Z
DTEND:20250226T200000Z
URL;VALUE=URI:https://svdynamo.nl/node/19026
END:VEVENT
BEGIN:VEVENT
UID:calendar.19027.field_date_repeat.0.2
SUMMARY:Verg. BB STD
DTSTAMP:20260419T215725Z
DTSTART:20250326T183000Z
DTEND:20250326T200000Z
URL;VALUE=URI:https://svdynamo.nl/node/19027
END:VEVENT
BEGIN:VEVENT
UID:calendar.19029.field_date_repeat.0.3
SUMMARY:Verg: BB STD
DTSTAMP:20260419T215725Z
DTSTART:20250423T173000Z
DTEND:20250423T190000Z
URL;VALUE=URI:https://svdynamo.nl/node/19029
END:VEVENT
BEGIN:VEVENT
UID:calendar.19030.field_date_repeat.0.4
SUMMARY:Verg. BB STD
DTSTAMP:20260419T215725Z
DTSTART:20250528T173000Z
DTEND:20250528T190000Z
URL;VALUE=URI:https://svdynamo.nl/node/19030
END:VEVENT
END:VCALENDAR
