BEGIN:VCALENDAR
VERSION:2.0
METHOD:PUBLISH
X-WR-CALNAME: Calendar | SV Dynamo Apeldoorn
PRODID:-//Drupal iCal API//EN
BEGIN:VEVENT
UID:calendar.18844.field_date_repeat.9.0
SUMMARY:Eten en wedstrijdbespreking D1
DTSTAMP:20260420T203550Z
DTSTART:20231207T160000Z
DTEND:20240627T163000Z
RRULE:FREQ=DAILY;INTERVAL=7;UNTIL=20240425T215959Z;WKST=MO
URL;VALUE=URI:https://svdynamo.nl/node/18844
END:VEVENT
BEGIN:VEVENT
UID:calendar.18826.field_date_repeat.0.21
SUMMARY:Bestuursverg Ver
DTSTAMP:20260420T203550Z
DTSTART:20240627T174500Z
DTEND:20240627T194500Z
URL;VALUE=URI:https://svdynamo.nl/node/18826
END:VEVENT
BEGIN:VEVENT
UID:calendar.19073.field_date_repeat.0.22
SUMMARY:Bestuursver. STD
DTSTAMP:20260420T203550Z
DTSTART:20240626T170000Z
DTEND:20240626T183000Z
URL;VALUE=URI:https://svdynamo.nl/node/19073
END:VEVENT
END:VCALENDAR
