BEGIN:VCALENDAR
VERSION:2.0
METHOD:PUBLISH
X-WR-CALNAME: Calendar | SV Dynamo Apeldoorn
PRODID:-//Drupal iCal API//EN
BEGIN:VEVENT
UID:calendar.19041.field_date_repeat.0.0
SUMMARY:WTZ
DTSTAMP:20260420T170224Z
DTSTART:20240602Z
DTEND:20240603Z
URL;VALUE=URI:https://svdynamo.nl/node/19041
END:VEVENT
BEGIN:VEVENT
UID:calendar.18844.field_date_repeat.6.1
SUMMARY:Eten en wedstrijdbespreking D1
DTSTAMP:20260420T170224Z
DTSTART:20231116T160000Z
DTEND:20240606T163000Z
RRULE:FREQ=DAILY;INTERVAL=7;UNTIL=20240425T215959Z;WKST=MO
URL;VALUE=URI:https://svdynamo.nl/node/18844
END:VEVENT
BEGIN:VEVENT
UID:calendar.18801.field_date_repeat.0.25
SUMMARY:Vergadering Clubhuiscomm.
DTSTAMP:20260420T170224Z
DTSTART:20240604T170000Z
DTEND:20240604T190000Z
URL;VALUE=URI:https://svdynamo.nl/node/18801
END:VEVENT
BEGIN:VEVENT
UID:calendar.18966.field_date_repeat.0.26
SUMMARY:CMV en Jeugdkamp
DTSTAMP:20260420T170224Z
DTSTART:20240606Z
DTEND:20240609Z
URL;VALUE=URI:https://svdynamo.nl/node/18966
END:VEVENT
END:VCALENDAR
