BEGIN:VCALENDAR
VERSION:2.0
METHOD:PUBLISH
X-WR-CALNAME: Calendar | SV Dynamo Apeldoorn
PRODID:-//Drupal iCal API//EN
BEGIN:VEVENT
UID:calendar.18844.field_date_repeat.0.0
SUMMARY:Eten en wedstrijdbespreking D1
DTSTAMP:20260420T203658Z
DTSTART:20231005T150000Z
DTEND:20240425T163000Z
RRULE:FREQ=DAILY;INTERVAL=7;UNTIL=20240425T215959Z;WKST=MO
URL;VALUE=URI:https://svdynamo.nl/node/18844
END:VEVENT
BEGIN:VEVENT
UID:calendar.18783.field_date_repeat.0.28
SUMMARY:Bestuursvergadering STD
DTSTAMP:20260420T203658Z
DTSTART:20240410T140000Z
DTEND:20240410T160000Z
URL;VALUE=URI:https://svdynamo.nl/node/18783
END:VEVENT
BEGIN:VEVENT
UID:calendar.18985.field_date_repeat.0.29
SUMMARY:Uitleg Nieuw merk
DTSTAMP:20260420T203658Z
DTSTART:20240408T173000Z
DTEND:20240408T190000Z
URL;VALUE=URI:https://svdynamo.nl/node/18985
END:VEVENT
BEGIN:VEVENT
UID:calendar.18996.field_date_repeat.0.30
SUMMARY:Jeugdcommissie
DTSTAMP:20260420T203658Z
DTSTART:20240410T170000Z
DTEND:20240410T170000Z
URL;VALUE=URI:https://svdynamo.nl/node/18996
END:VEVENT
BEGIN:VEVENT
UID:calendar.18999.field_date_repeat.0.31
SUMMARY:WTZ
DTSTAMP:20260420T203658Z
DTSTART:20240409T170000Z
DTEND:20240409T180000Z
URL;VALUE=URI:https://svdynamo.nl/node/18999
END:VEVENT
END:VCALENDAR
