BEGIN:VCALENDAR
VERSION:2.0
METHOD:PUBLISH
X-WR-CALNAME: Calendar | SV Dynamo Apeldoorn
PRODID:-//Drupal iCal API//EN
BEGIN:VEVENT
UID:calendar.18844.field_date_repeat.0.0
SUMMARY:Eten en wedstrijdbespreking D1
DTSTAMP:20260420T190455Z
DTSTART:20231005T150000Z
DTEND:20240425T163000Z
RRULE:FREQ=DAILY;INTERVAL=7;UNTIL=20240425T215959Z;WKST=MO
URL;VALUE=URI:https://svdynamo.nl/node/18844
END:VEVENT
BEGIN:VEVENT
UID:calendar.18780.field_date_repeat.0.15
SUMMARY:Bestuursvergadering STD
DTSTAMP:20260420T190455Z
DTSTART:20240110T150000Z
DTEND:20240110T170000Z
URL;VALUE=URI:https://svdynamo.nl/node/18780
END:VEVENT
BEGIN:VEVENT
UID:calendar.18796.field_date_repeat.0.16
SUMMARY:Vergadering Clubhuiscomm.
DTSTAMP:20260420T190455Z
DTSTART:20240109T180000Z
DTEND:20240109T200000Z
URL;VALUE=URI:https://svdynamo.nl/node/18796
END:VEVENT
BEGIN:VEVENT
UID:calendar.18820.field_date_repeat.0.17
SUMMARY:Bestuursverg. Ver
DTSTAMP:20260420T190455Z
DTSTART:20240111T184500Z
DTEND:20240111T204500Z
URL;VALUE=URI:https://svdynamo.nl/node/18820
END:VEVENT
BEGIN:VEVENT
UID:calendar.18926.field_date_repeat.0.18
SUMMARY:Ek 2024
DTSTAMP:20260420T190455Z
DTSTART:20240108T183000Z
DTEND:20240108T200000Z
URL;VALUE=URI:https://svdynamo.nl/node/18926
END:VEVENT
BEGIN:VEVENT
UID:calendar.18937.field_date_repeat.0.19
SUMMARY:Bedrijfsbureau
DTSTAMP:20260420T190455Z
DTSTART:20240109T183000Z
DTEND:20240109T203000Z
URL;VALUE=URI:https://svdynamo.nl/node/18937
END:VEVENT
END:VCALENDAR
