BEGIN:VCALENDAR
VERSION:2.0
METHOD:PUBLISH
X-WR-CALNAME: Calendar | SV Dynamo Apeldoorn
PRODID:-//Drupal iCal API//EN
BEGIN:VEVENT
UID:calendar.18873.field_date_repeat.0.0
SUMMARY:Samenwerking\, BC\, STD en SV
DTSTAMP:20260421T065345Z
DTSTART:20240104T183000Z
DTEND:20240104T200000Z
URL;VALUE=URI:https://svdynamo.nl/node/18873
END:VEVENT
BEGIN:VEVENT
UID:calendar.18844.field_date_repeat.0.1
SUMMARY:Eten en wedstrijdbespreking D1
DTSTAMP:20260421T065345Z
DTSTART:20231005T150000Z
DTEND:20240425T163000Z
RRULE:FREQ=DAILY;INTERVAL=7;UNTIL=20240425T215959Z;WKST=MO
URL;VALUE=URI:https://svdynamo.nl/node/18844
END:VEVENT
BEGIN:VEVENT
UID:calendar.18771.field_date_repeat.0.15
SUMMARY:Verg. BB STD
DTSTAMP:20260421T065345Z
DTSTART:20240102T183000Z
DTEND:20240102T203000Z
URL;VALUE=URI:https://svdynamo.nl/node/18771
END:VEVENT
BEGIN:VEVENT
UID:calendar.18918.field_date_repeat.0.16
SUMMARY:DTC overleg
DTSTAMP:20260421T065345Z
DTSTART:20240103T180000Z
DTEND:20240103T200000Z
URL;VALUE=URI:https://svdynamo.nl/node/18918
END:VEVENT
END:VCALENDAR
