BEGIN:VCALENDAR
VERSION:2.0
METHOD:PUBLISH
X-WR-CALNAME: Calendar | SV Dynamo Apeldoorn
PRODID:-//Drupal iCal API//EN
BEGIN:VEVENT
UID:calendar.18844.field_date_repeat.10.0
SUMMARY:Eten en wedstrijdbespreking D1
DTSTAMP:20260420T230621Z
DTSTART:20231214T160000Z
DTEND:20240704T163000Z
RRULE:FREQ=DAILY;INTERVAL=7;UNTIL=20240425T215959Z;WKST=MO
URL;VALUE=URI:https://svdynamo.nl/node/18844
END:VEVENT
BEGIN:VEVENT
UID:calendar.18827.field_date_repeat.0.20
SUMMARY:Bestuursverg Ver
DTSTAMP:20260420T230621Z
DTSTART:20240725T174500Z
DTEND:20240725T194500Z
URL;VALUE=URI:https://svdynamo.nl/node/18827
END:VEVENT
BEGIN:VEVENT
UID:calendar.19093.field_date_repeat.0.21
SUMMARY:Bestuur (afspraak Accres)
DTSTAMP:20260420T230621Z
DTSTART:20240703T080000Z
DTEND:20240703T110000Z
URL;VALUE=URI:https://svdynamo.nl/node/19093
END:VEVENT
BEGIN:VEVENT
UID:calendar.19028.field_date_repeat.0.22
SUMMARY:EK mannen <22
DTSTAMP:20260420T230621Z
DTSTART:20240707T070000Z
DTEND:20240714T203000Z
URL;VALUE=URI:https://svdynamo.nl/node/19028
END:VEVENT
END:VCALENDAR
