BEGIN:VCALENDAR
VERSION:2.0
METHOD:PUBLISH
X-WR-CALNAME: Calendar | SV Dynamo Apeldoorn
PRODID:-//Drupal iCal API//EN
BEGIN:VEVENT
UID:calendar.18844.field_date_repeat.1.0
SUMMARY:Eten en wedstrijdbespreking D1
DTSTAMP:20260420T115012Z
DTSTART:20231012T150000Z
DTEND:20240502T163000Z
RRULE:FREQ=DAILY;INTERVAL=7;UNTIL=20240425T215959Z;WKST=MO
URL;VALUE=URI:https://svdynamo.nl/node/18844
END:VEVENT
BEGIN:VEVENT
UID:calendar.18775.field_date_repeat.0.29
SUMMARY:Verg. BB STD
DTSTAMP:20260420T115012Z
DTSTART:20240514T180000Z
DTEND:20240514T193000Z
URL;VALUE=URI:https://svdynamo.nl/node/18775
END:VEVENT
BEGIN:VEVENT
UID:calendar.18784.field_date_repeat.0.30
SUMMARY:Bestuursvergadering STD
DTSTAMP:20260420T115012Z
DTSTART:20240506T183000Z
DTEND:20240506T203000Z
URL;VALUE=URI:https://svdynamo.nl/node/18784
END:VEVENT
BEGIN:VEVENT
UID:calendar.18824.field_date_repeat.0.31
SUMMARY:Bestuursverg Ver
DTSTAMP:20260420T115012Z
DTSTART:20240502T174500Z
DTEND:20240502T194500Z
URL;VALUE=URI:https://svdynamo.nl/node/18824
END:VEVENT
BEGIN:VEVENT
UID:calendar.18825.field_date_repeat.0.32
SUMMARY:Bestuursverg Ver
DTSTAMP:20260420T115012Z
DTSTART:20240530T174500Z
DTEND:20240530T194500Z
URL;VALUE=URI:https://svdynamo.nl/node/18825
END:VEVENT
BEGIN:VEVENT
UID:calendar.18986.field_date_repeat.0.33
SUMMARY:Dank je wel avond vrijwilligers STD
DTSTAMP:20260420T115012Z
DTSTART:20240507T150000Z
DTEND:20240507T190000Z
URL;VALUE=URI:https://svdynamo.nl/node/18986
END:VEVENT
BEGIN:VEVENT
UID:calendar.19000.field_date_repeat.0.34
SUMMARY:Reservering gehele Dynamo Café - Clubhuiscommissie
DTSTAMP:20260420T115012Z
DTSTART:20240524T153000Z
DTEND:20240524T210000Z
URL;VALUE=URI:https://svdynamo.nl/node/19000
END:VEVENT
BEGIN:VEVENT
UID:calendar.19007.field_date_repeat.0.35
SUMMARY:Kick off D1 nieuw team
DTSTAMP:20260420T115012Z
DTSTART:20240514T170000Z
DTEND:20240514T200000Z
RRULE:FREQ=DAILY;INTERVAL=1;UNTIL=20240514T215959Z;WKST=MO
EXDATE:20240513T220000Z
RDATE:20240513T220000Z
URL;VALUE=URI:https://svdynamo.nl/node/19007
END:VEVENT
BEGIN:VEVENT
UID:calendar.19009.field_date_repeat.0.37
SUMMARY:Dank je wel middag Court crew
DTSTAMP:20260420T115012Z
DTSTART:20240515T150000Z
DTEND:20240515T180000Z
URL;VALUE=URI:https://svdynamo.nl/node/19009
END:VEVENT
BEGIN:VEVENT
UID:calendar.19012.field_date_repeat.0.38
SUMMARY:Sponsoravond STD
DTSTAMP:20260420T115012Z
DTSTART:20240529T150000Z
DTEND:20240529T190000Z
URL;VALUE=URI:https://svdynamo.nl/node/19012
END:VEVENT
BEGIN:VEVENT
UID:calendar.19018.field_date_repeat.0.39
SUMMARY:DTC
DTSTAMP:20260420T115012Z
DTSTART:20240516T124500Z
DTEND:20240516T143000Z
URL;VALUE=URI:https://svdynamo.nl/node/19018
END:VEVENT
BEGIN:VEVENT
UID:calendar.19019.field_date_repeat.0.40
SUMMARY:BC Borrel en hapje
DTSTAMP:20260420T115012Z
DTSTART:20240531T143000Z
DTEND:20240531T190000Z
URL;VALUE=URI:https://svdynamo.nl/node/19019
END:VEVENT
END:VCALENDAR
