BEGIN:VCALENDAR
VERSION:2.0
METHOD:PUBLISH
X-WR-CALNAME: Calendar | SV Dynamo Apeldoorn
PRODID:-//Drupal iCal API//EN
BEGIN:VEVENT
UID:calendar.18844.field_date_repeat.0.0
SUMMARY:Eten en wedstrijdbespreking D1
DTSTAMP:20260420T185419Z
DTSTART:20231005T150000Z
DTEND:20240425T163000Z
RRULE:FREQ=DAILY;INTERVAL=7;UNTIL=20240425T215959Z;WKST=MO
URL;VALUE=URI:https://svdynamo.nl/node/18844
END:VEVENT
BEGIN:VEVENT
UID:calendar.18774.field_date_repeat.0.26
SUMMARY:Verg. BB STD
DTSTAMP:20260420T185419Z
DTSTART:20240402T173000Z
DTEND:20240402T193000Z
URL;VALUE=URI:https://svdynamo.nl/node/18774
END:VEVENT
BEGIN:VEVENT
UID:calendar.18799.field_date_repeat.0.27
SUMMARY:Vergadering Clubhuiscomm.
DTSTAMP:20260420T185419Z
DTSTART:20240402T170000Z
DTEND:20240402T190000Z
URL;VALUE=URI:https://svdynamo.nl/node/18799
END:VEVENT
END:VCALENDAR
