BEGIN:VCALENDAR
VERSION:2.0
METHOD:PUBLISH
X-WR-CALNAME: Calendar | SV Dynamo Apeldoorn
PRODID:-//Drupal iCal API//EN
BEGIN:VEVENT
UID:calendar.18844.field_date_repeat.0.0
SUMMARY:Eten en wedstrijdbespreking D1
DTSTAMP:20260420T224436Z
DTSTART:20231005T150000Z
DTEND:20240425T163000Z
RRULE:FREQ=DAILY;INTERVAL=7;UNTIL=20240425T215959Z;WKST=MO
URL;VALUE=URI:https://svdynamo.nl/node/18844
END:VEVENT
BEGIN:VEVENT
UID:calendar.18773.field_date_repeat.0.22
SUMMARY:Verg. BB STD
DTSTAMP:20260420T224436Z
DTSTART:20240305T183000Z
DTEND:20240305T203000Z
URL;VALUE=URI:https://svdynamo.nl/node/18773
END:VEVENT
BEGIN:VEVENT
UID:calendar.18798.field_date_repeat.0.23
SUMMARY:Vergadering Clubhuiscomm.
DTSTAMP:20260420T224436Z
DTSTART:20240305T180000Z
DTEND:20240305T200000Z
URL;VALUE=URI:https://svdynamo.nl/node/18798
END:VEVENT
END:VCALENDAR
