BEGIN:VCALENDAR
VERSION:2.0
METHOD:PUBLISH
X-WR-CALNAME: Calendar | SV Dynamo Apeldoorn
PRODID:-//Drupal iCal API//EN
BEGIN:VEVENT
UID:calendar.18888.field_date_repeat.0.0
SUMMARY:Spiegelavond Vrijwilligersbeleid
DTSTAMP:20260420T115512Z
DTSTART:20240201T183000Z
DTEND:20240201T210000Z
URL;VALUE=URI:https://svdynamo.nl/node/18888
END:VEVENT
BEGIN:VEVENT
UID:calendar.18844.field_date_repeat.0.1
SUMMARY:Eten en wedstrijdbespreking D1
DTSTAMP:20260420T115512Z
DTSTART:20231005T150000Z
DTEND:20240425T163000Z
RRULE:FREQ=DAILY;INTERVAL=7;UNTIL=20240425T215959Z;WKST=MO
URL;VALUE=URI:https://svdynamo.nl/node/18844
END:VEVENT
BEGIN:VEVENT
UID:calendar.18772.field_date_repeat.0.23
SUMMARY:Verg. BB STD
DTSTAMP:20260420T115512Z
DTSTART:20240206T183000Z
DTEND:20240206T203000Z
URL;VALUE=URI:https://svdynamo.nl/node/18772
END:VEVENT
BEGIN:VEVENT
UID:calendar.18781.field_date_repeat.0.24
SUMMARY:Bestuursverg. STD
DTSTAMP:20260420T115512Z
DTSTART:20240214T180000Z
DTEND:20240214T200000Z
URL;VALUE=URI:https://svdynamo.nl/node/18781
END:VEVENT
BEGIN:VEVENT
UID:calendar.18797.field_date_repeat.0.25
SUMMARY:Vergadering Clubhuiscomm.
DTSTAMP:20260420T115512Z
DTSTART:20240213T180000Z
DTEND:20240213T200000Z
URL;VALUE=URI:https://svdynamo.nl/node/18797
END:VEVENT
BEGIN:VEVENT
UID:calendar.18821.field_date_repeat.0.26
SUMMARY:Bestuursverg. Ver
DTSTAMP:20260420T115512Z
DTSTART:20240208T184500Z
DTEND:20240208T204500Z
URL;VALUE=URI:https://svdynamo.nl/node/18821
END:VEVENT
BEGIN:VEVENT
UID:calendar.18941.field_date_repeat.0.27
SUMMARY:EK 2024
DTSTAMP:20260420T115512Z
DTSTART:20240212T183000Z
DTEND:20240212T200000Z
URL;VALUE=URI:https://svdynamo.nl/node/18941
END:VEVENT
BEGIN:VEVENT
UID:calendar.18964.field_date_repeat.0.28
SUMMARY:Jeugdcommissie
DTSTAMP:20260420T115512Z
DTSTART:20240227T190000Z
DTEND:20240227T190000Z
URL;VALUE=URI:https://svdynamo.nl/node/18964
END:VEVENT
BEGIN:VEVENT
UID:calendar.18969.field_date_repeat.0.29
SUMMARY:Stuurgroep vrijwilligersbeleid
DTSTAMP:20260420T115512Z
DTSTART:20240229T190000Z
DTEND:20240229T210000Z
URL;VALUE=URI:https://svdynamo.nl/node/18969
END:VEVENT
BEGIN:VEVENT
UID:calendar.18971.field_date_repeat.0.30
SUMMARY:Nieuwe merk
DTSTAMP:20260420T115512Z
DTSTART:20240226T183000Z
DTEND:20240226T200000Z
URL;VALUE=URI:https://svdynamo.nl/node/18971
END:VEVENT
END:VCALENDAR
