BEGIN:VCALENDAR
VERSION:2.0
METHOD:PUBLISH
X-WR-CALNAME: Calendar | SV Dynamo Apeldoorn
PRODID:-//Drupal iCal API//EN
BEGIN:VEVENT
UID:calendar.18659.field_date_repeat.0.0
SUMMARY:Start nieuwe seizoen STD
DTSTAMP:20260420T182304Z
DTSTART:20230907T150000Z
DTEND:20230907T190000Z
URL;VALUE=URI:https://svdynamo.nl/node/18659
END:VEVENT
BEGIN:VEVENT
UID:calendar.18767.field_date_repeat.0.1
SUMMARY:Verg. BB STD
DTSTAMP:20260420T182304Z
DTSTART:20230905T173000Z
DTEND:20230905T193000Z
URL;VALUE=URI:https://svdynamo.nl/node/18767
END:VEVENT
BEGIN:VEVENT
UID:calendar.18792.field_date_repeat.0.2
SUMMARY:Vergadering Clubhuiscomm.
DTSTAMP:20260420T182304Z
DTSTART:20230905T170000Z
DTEND:20230905T190000Z
URL;VALUE=URI:https://svdynamo.nl/node/18792
END:VEVENT
BEGIN:VEVENT
UID:calendar.18810.field_date_repeat.0.3
SUMMARY:infoavond ouders ABC-jeugd
DTSTAMP:20260420T182304Z
DTSTART:20230904T180000Z
DTEND:20230904T180000Z
URL;VALUE=URI:https://svdynamo.nl/node/18810
END:VEVENT
BEGIN:VEVENT
UID:calendar.18829.field_date_repeat.0.4
SUMMARY:Oefentoernooi Jeugd
DTSTAMP:20260420T182304Z
DTSTART:20230909T070000Z
DTEND:20230909T160000Z
URL;VALUE=URI:https://svdynamo.nl/node/18829
END:VEVENT
BEGIN:VEVENT
UID:calendar.18830.field_date_repeat.0.5
SUMMARY:Oefentoernooi Jeugd
DTSTAMP:20260420T182304Z
DTSTART:20230910T070000Z
DTEND:20230910T120000Z
URL;VALUE=URI:https://svdynamo.nl/node/18830
END:VEVENT
END:VCALENDAR
