BEGIN:VCALENDAR
VERSION:2.0
METHOD:PUBLISH
X-WR-CALNAME: Calendar | SV Dynamo Apeldoorn
PRODID:-//Drupal iCal API//EN
BEGIN:VEVENT
UID:calendar.18492.field_date_repeat.7.0
SUMMARY:Jeugdcie
DTSTAMP:20260421T005711Z
DTSTART:20230605T180000Z
DTEND:20230605T180000Z
RRULE:FREQ=MONTHLY;INTERVAL=1;BYDAY=+1MO;UNTIL=20230701T215959Z;WKST=MO
URL;VALUE=URI:https://svdynamo.nl/node/18492
END:VEVENT
BEGIN:VEVENT
UID:calendar.18477.field_date_repeat.0.1
SUMMARY:Bestuursvergadering
DTSTAMP:20260421T005711Z
DTSTART:20230608T173000Z
DTEND:20230608T193000Z
URL;VALUE=URI:https://svdynamo.nl/node/18477
END:VEVENT
BEGIN:VEVENT
UID:calendar.18463.field_date_repeat.0.2
SUMMARY:CHC Overleg
DTSTAMP:20260421T005711Z
DTSTART:20230606T173000Z
DTEND:20230606T193000Z
URL;VALUE=URI:https://svdynamo.nl/node/18463
END:VEVENT
BEGIN:VEVENT
UID:calendar.18642.field_date_repeat.0.3
SUMMARY:Volleybalkamp mini's en jeugd
DTSTAMP:20260421T005711Z
DTSTART:20230608Z
DTEND:20230609Z
URL;VALUE=URI:https://svdynamo.nl/node/18642
END:VEVENT
BEGIN:VEVENT
UID:calendar.18643.field_date_repeat.0.4
SUMMARY:Volleybalkamp mini's en jeugd
DTSTAMP:20260421T005711Z
DTSTART:20230609Z
DTEND:20230610Z
URL;VALUE=URI:https://svdynamo.nl/node/18643
END:VEVENT
BEGIN:VEVENT
UID:calendar.18644.field_date_repeat.0.5
SUMMARY:Volleybalkamp mini's en jeugd
DTSTAMP:20260421T005711Z
DTSTART:20230610Z
DTEND:20230611Z
URL;VALUE=URI:https://svdynamo.nl/node/18644
END:VEVENT
END:VCALENDAR
