BEGIN:VCALENDAR
VERSION:2.0
METHOD:PUBLISH
X-WR-CALNAME: Calendar | SV Dynamo Apeldoorn
PRODID:-//Drupal iCal API//EN
BEGIN:VEVENT
UID:calendar.18658.field_date_repeat.0.0
SUMMARY:Afsluiting seizoen STD
DTSTAMP:20260421T005623Z
DTSTART:20230530T150000Z
DTEND:20230530T190000Z
URL;VALUE=URI:https://svdynamo.nl/node/18658
END:VEVENT
END:VCALENDAR
