BEGIN:VCALENDAR
VERSION:2.0
METHOD:PUBLISH
X-WR-CALNAME: Calendar | SV Dynamo Apeldoorn
PRODID:-//Drupal iCal API//EN
BEGIN:VEVENT
UID:calendar.18492.field_date_repeat.4.0
SUMMARY:Jeugdcie
DTSTAMP:20260421T013756Z
DTSTART:20230306T190000Z
DTEND:20230306T190000Z
RRULE:FREQ=MONTHLY;INTERVAL=1;BYDAY=+1MO;UNTIL=20230701T215959Z;WKST=MO
URL;VALUE=URI:https://svdynamo.nl/node/18492
END:VEVENT
BEGIN:VEVENT
UID:calendar.18474.field_date_repeat.0.1
SUMMARY:Bestuursvergadering
DTSTAMP:20260421T013756Z
DTSTART:20230309T183000Z
DTEND:20230309T203000Z
URL;VALUE=URI:https://svdynamo.nl/node/18474
END:VEVENT
BEGIN:VEVENT
UID:calendar.18447.field_date_repeat.27.2
SUMMARY:Wedstrijd voorbereiding D1
DTSTAMP:20260421T013756Z
DTSTART:20230309T160000Z
DTEND:20230309T173000Z
RRULE:FREQ=DAILY;INTERVAL=7;UNTIL=20230427T215959Z;WKST=MO
URL;VALUE=URI:https://svdynamo.nl/node/18447
END:VEVENT
BEGIN:VEVENT
UID:calendar.18460.field_date_repeat.0.3
SUMMARY:CHC Overleg
DTSTAMP:20260421T013756Z
DTSTART:20230307T183000Z
DTEND:20230307T203000Z
URL;VALUE=URI:https://svdynamo.nl/node/18460
END:VEVENT
END:VCALENDAR
