BEGIN:VCALENDAR
VERSION:2.0
METHOD:PUBLISH
X-WR-CALNAME: Calendar | SV Dynamo Apeldoorn
PRODID:-//Drupal iCal API//EN
BEGIN:VEVENT
UID:calendar.18492.field_date_repeat.3.0
SUMMARY:Jeugdcie
DTSTAMP:20260421T065242Z
DTSTART:20230206T190000Z
DTEND:20230206T190000Z
RRULE:FREQ=MONTHLY;INTERVAL=1;BYDAY=+1MO;UNTIL=20230701T215959Z;WKST=MO
URL;VALUE=URI:https://svdynamo.nl/node/18492
END:VEVENT
BEGIN:VEVENT
UID:calendar.18473.field_date_repeat.0.1
SUMMARY:Bestuursvergadering
DTSTAMP:20260421T065242Z
DTSTART:20230209T183000Z
DTEND:20230209T203000Z
URL;VALUE=URI:https://svdynamo.nl/node/18473
END:VEVENT
BEGIN:VEVENT
UID:calendar.18447.field_date_repeat.23.2
SUMMARY:Wedstrijd voorbereiding D1
DTSTAMP:20260421T065242Z
DTSTART:20230209T160000Z
DTEND:20230209T173000Z
RRULE:FREQ=DAILY;INTERVAL=7;UNTIL=20230427T215959Z;WKST=MO
URL;VALUE=URI:https://svdynamo.nl/node/18447
END:VEVENT
END:VCALENDAR
