BEGIN:VCALENDAR
VERSION:2.0
METHOD:PUBLISH
X-WR-CALNAME: Calendar | SV Dynamo Apeldoorn
PRODID:-//Drupal iCal API//EN
BEGIN:VEVENT
UID:calendar.18866.field_date_repeat.0.0
SUMMARY:Intervisie Nevobo
DTSTAMP:20260420T200850Z
DTSTART:20231213T123000Z
DTEND:20231213T143000Z
URL;VALUE=URI:https://svdynamo.nl/node/18866
END:VEVENT
BEGIN:VEVENT
UID:calendar.18844.field_date_repeat.0.1
SUMMARY:Eten en wedstrijdbespreking D1
DTSTAMP:20260420T200850Z
DTSTART:20231005T150000Z
DTEND:20240425T163000Z
RRULE:FREQ=DAILY;INTERVAL=7;UNTIL=20240425T215959Z;WKST=MO
URL;VALUE=URI:https://svdynamo.nl/node/18844
END:VEVENT
BEGIN:VEVENT
UID:calendar.18779.field_date_repeat.0.11
SUMMARY:Bestuursvergadering STD
DTSTAMP:20260420T200850Z
DTSTART:20231213T150000Z
DTEND:20231213T170000Z
URL;VALUE=URI:https://svdynamo.nl/node/18779
END:VEVENT
END:VCALENDAR
