BEGIN:VCALENDAR
VERSION:2.0
METHOD:PUBLISH
X-WR-CALNAME: Calendar | SV Dynamo Apeldoorn
PRODID:-//Drupal iCal API//EN
BEGIN:VEVENT
UID:calendar.18886.field_date_repeat.0.0
SUMMARY:Int. Jeugdtoernooi
DTSTAMP:20260421T031109Z
DTSTART:20231228T090000Z
DTEND:20231228T220000Z
URL;VALUE=URI:https://svdynamo.nl/node/18886
END:VEVENT
BEGIN:VEVENT
UID:calendar.18885.field_date_repeat.0.1
SUMMARY:Int. Jeugdtoernooi
DTSTAMP:20260421T031109Z
DTSTART:20231227T080000Z
DTEND:20231227T220000Z
URL;VALUE=URI:https://svdynamo.nl/node/18885
END:VEVENT
BEGIN:VEVENT
UID:calendar.18882.field_date_repeat.0.2
SUMMARY:bijeenkomst WTZ
DTSTAMP:20260421T031109Z
DTSTART:20231220T173000Z
DTEND:20231220T210000Z
URL;VALUE=URI:https://svdynamo.nl/node/18882
END:VEVENT
BEGIN:VEVENT
UID:calendar.18866.field_date_repeat.0.3
SUMMARY:Intervisie Nevobo
DTSTAMP:20260421T031109Z
DTSTART:20231213T123000Z
DTEND:20231213T143000Z
URL;VALUE=URI:https://svdynamo.nl/node/18866
END:VEVENT
BEGIN:VEVENT
UID:calendar.18887.field_date_repeat.0.4
SUMMARY:Int. Jeugdtoernooi
DTSTAMP:20260421T031109Z
DTSTART:20231229T090000Z
DTEND:20231229T170000Z
URL;VALUE=URI:https://svdynamo.nl/node/18887
END:VEVENT
BEGIN:VEVENT
UID:calendar.18844.field_date_repeat.0.5
SUMMARY:Eten en wedstrijdbespreking D1
DTSTAMP:20260421T031109Z
DTSTART:20231005T150000Z
DTEND:20240425T163000Z
RRULE:FREQ=DAILY;INTERVAL=7;UNTIL=20240425T215959Z;WKST=MO
URL;VALUE=URI:https://svdynamo.nl/node/18844
END:VEVENT
BEGIN:VEVENT
UID:calendar.18770.field_date_repeat.0.18
SUMMARY:Verg. BB STD
DTSTAMP:20260421T031109Z
DTSTART:20231205T183000Z
DTEND:20231205T203000Z
URL;VALUE=URI:https://svdynamo.nl/node/18770
END:VEVENT
BEGIN:VEVENT
UID:calendar.18779.field_date_repeat.0.19
SUMMARY:Bestuursvergadering STD
DTSTAMP:20260421T031109Z
DTSTART:20231213T150000Z
DTEND:20231213T170000Z
URL;VALUE=URI:https://svdynamo.nl/node/18779
END:VEVENT
BEGIN:VEVENT
UID:calendar.18795.field_date_repeat.0.20
SUMMARY:Vergadering Clubhuiscomm.
DTSTAMP:20260421T031109Z
DTSTART:20231206T190000Z
DTEND:20231206T210000Z
URL;VALUE=URI:https://svdynamo.nl/node/18795
END:VEVENT
BEGIN:VEVENT
UID:calendar.18819.field_date_repeat.0.21
SUMMARY:Bestuursver. Ver.
DTSTAMP:20260421T031109Z
DTSTART:20231207T184500Z
DTEND:20231207T203000Z
URL;VALUE=URI:https://svdynamo.nl/node/18819
END:VEVENT
END:VCALENDAR
