BEGIN:VCALENDAR
VERSION:2.0
METHOD:PUBLISH
X-WR-CALNAME: Calendar | SV Dynamo Apeldoorn
PRODID:-//Drupal iCal API//EN
BEGIN:VEVENT
UID:calendar.18856.field_date_repeat.0.0
SUMMARY:Vergadering Jeugdtoernooicomm.
DTSTAMP:20260421T005437Z
DTSTART:20231106T193000Z
DTEND:20231106T213000Z
URL;VALUE=URI:https://svdynamo.nl/node/18856
END:VEVENT
BEGIN:VEVENT
UID:calendar.18853.field_date_repeat.0.1
SUMMARY:Trainersavond
DTSTAMP:20260421T005437Z
DTSTART:20231101T183000Z
DTEND:20231101T193000Z
URL;VALUE=URI:https://svdynamo.nl/node/18853
END:VEVENT
BEGIN:VEVENT
UID:calendar.18854.field_date_repeat.0.2
SUMMARY:EK 2024
DTSTAMP:20260421T005437Z
DTSTART:20231117T130000Z
DTEND:20231117T150000Z
URL;VALUE=URI:https://svdynamo.nl/node/18854
END:VEVENT
BEGIN:VEVENT
UID:calendar.18857.field_date_repeat.0.3
SUMMARY:DTC (dagelijkse TC) vergadering
DTSTAMP:20260421T005437Z
DTSTART:20231108T143000Z
DTEND:20231108T160000Z
URL;VALUE=URI:https://svdynamo.nl/node/18857
END:VEVENT
BEGIN:VEVENT
UID:calendar.18858.field_date_repeat.0.4
SUMMARY:Jeugdcommissie
DTSTAMP:20260421T005437Z
DTSTART:20231113Z
DTEND:20231114Z
URL;VALUE=URI:https://svdynamo.nl/node/18858
END:VEVENT
BEGIN:VEVENT
UID:calendar.18844.field_date_repeat.0.5
SUMMARY:Eten en wedstrijdbespreking D1
DTSTAMP:20260421T005437Z
DTSTART:20231005T150000Z
DTEND:20240425T163000Z
RRULE:FREQ=DAILY;INTERVAL=7;UNTIL=20240425T215959Z;WKST=MO
URL;VALUE=URI:https://svdynamo.nl/node/18844
END:VEVENT
BEGIN:VEVENT
UID:calendar.18769.field_date_repeat.0.14
SUMMARY:Verg. BB STD
DTSTAMP:20260421T005437Z
DTSTART:20231107T183000Z
DTEND:20231107T203000Z
URL;VALUE=URI:https://svdynamo.nl/node/18769
END:VEVENT
BEGIN:VEVENT
UID:calendar.18778.field_date_repeat.0.15
SUMMARY:Bestuursverg. STD
DTSTAMP:20260421T005437Z
DTSTART:20231108T150000Z
DTEND:20231108T170000Z
URL;VALUE=URI:https://svdynamo.nl/node/18778
END:VEVENT
BEGIN:VEVENT
UID:calendar.18794.field_date_repeat.0.16
SUMMARY:Vergadering Clubhuiscomm.
DTSTAMP:20260421T005437Z
DTSTART:20231107T180000Z
DTEND:20231107T200000Z
URL;VALUE=URI:https://svdynamo.nl/node/18794
END:VEVENT
BEGIN:VEVENT
UID:calendar.18818.field_date_repeat.0.17
SUMMARY:Bestuursver. Ver.
DTSTAMP:20260421T005437Z
DTSTART:20231109T184500Z
DTEND:20231109T203000Z
URL;VALUE=URI:https://svdynamo.nl/node/18818
END:VEVENT
END:VCALENDAR
