BEGIN:VCALENDAR
VERSION:2.0
METHOD:PUBLISH
X-WR-CALNAME: Calendar | SV Dynamo Apeldoorn
PRODID:-//Drupal iCal API//EN
BEGIN:VEVENT
UID:calendar.18768.field_date_repeat.0.0
SUMMARY:Verg. BB STD
DTSTAMP:20260420T235226Z
DTSTART:20231003T173000Z
DTEND:20231003T193000Z
URL;VALUE=URI:https://svdynamo.nl/node/18768
END:VEVENT
BEGIN:VEVENT
UID:calendar.18793.field_date_repeat.0.1
SUMMARY:Vergadering Clubhuiscomm.
DTSTAMP:20260420T235226Z
DTSTART:20231003T170000Z
DTEND:20231003T190000Z
URL;VALUE=URI:https://svdynamo.nl/node/18793
END:VEVENT
BEGIN:VEVENT
UID:calendar.18838.field_date_repeat.0.2
SUMMARY:TC Vegadering
DTSTAMP:20260420T235226Z
DTSTART:20231003T173000Z
DTEND:20231003T210000Z
URL;VALUE=URI:https://svdynamo.nl/node/18838
END:VEVENT
END:VCALENDAR
