BEGIN:VCALENDAR
VERSION:2.0
METHOD:PUBLISH
X-WR-CALNAME: Calendar | SV Dynamo Apeldoorn
PRODID:-//Drupal iCal API//EN
BEGIN:VEVENT
UID:calendar.18816.field_date_repeat.0.0
SUMMARY:Bestuursverg. Ver
DTSTAMP:20260421T015744Z
DTSTART:20230914T174500Z
DTEND:20230914T193000Z
URL;VALUE=URI:https://svdynamo.nl/node/18816
END:VEVENT
END:VCALENDAR
