BEGIN:VCALENDAR
VERSION:2.0
METHOD:PUBLISH
X-WR-CALNAME: Calendar | SV Dynamo Apeldoorn
PRODID:-//Drupal iCal API//EN
BEGIN:VEVENT
UID:calendar.18756.field_date_repeat.0.0
SUMMARY:Vergadering STD
DTSTAMP:20260420T215716Z
DTSTART:20230913T140000Z
DTEND:20230913T160000Z
URL;VALUE=URI:https://svdynamo.nl/node/18756
END:VEVENT
BEGIN:VEVENT
UID:calendar.18834.field_date_repeat.0.1
SUMMARY:Activiteiten jeugd
DTSTAMP:20260420T215716Z
DTSTART:20230912Z
DTEND:20230913Z
URL;VALUE=URI:https://svdynamo.nl/node/18834
END:VEVENT
END:VCALENDAR
