BEGIN:VCALENDAR
VERSION:2.0
METHOD:PUBLISH
X-WR-CALNAME: Calendar | SV Dynamo Apeldoorn
PRODID:-//Drupal iCal API//EN
BEGIN:VEVENT
UID:calendar.18830.field_date_repeat.0.0
SUMMARY:Oefentoernooi Jeugd
DTSTAMP:20260421T021245Z
DTSTART:20230910T070000Z
DTEND:20230910T120000Z
URL;VALUE=URI:https://svdynamo.nl/node/18830
END:VEVENT
END:VCALENDAR
