BEGIN:VCALENDAR
VERSION:2.0
METHOD:PUBLISH
X-WR-CALNAME: Calendar | SV Dynamo Apeldoorn
PRODID:-//Drupal iCal API//EN
BEGIN:VEVENT
UID:calendar.18713.field_date_repeat.0.0
SUMMARY:Leden schoenenpasavond Kievit Sport
DTSTAMP:20260421T051557Z
DTSTART:20230831T150000Z
DTEND:20230831T200000Z
URL;VALUE=URI:https://svdynamo.nl/node/18713
END:VEVENT
END:VCALENDAR
