BEGIN:VCALENDAR
VERSION:2.0
METHOD:PUBLISH
X-WR-CALNAME: Calendar | SV Dynamo Apeldoorn
PRODID:-//Drupal iCal API//EN
BEGIN:VEVENT
UID:calendar.18790.field_date_repeat.0.0
SUMMARY:Bestuursvergadering STD
DTSTAMP:20260421T032936Z
DTSTART:20230823T140000Z
DTEND:20230823T160000Z
URL;VALUE=URI:https://svdynamo.nl/node/18790
END:VEVENT
END:VCALENDAR
