BEGIN:VCALENDAR
VERSION:2.0
METHOD:PUBLISH
X-WR-CALNAME: Calendar | SV Dynamo Apeldoorn
PRODID:-//Drupal iCal API//EN
BEGIN:VEVENT
UID:calendar.18789.field_date_repeat.0.0
SUMMARY:Braistorm sessie STD BB
DTSTAMP:20260421T031808Z
DTSTART:20230815T170000Z
DTEND:20230822T193000Z
URL;VALUE=URI:https://svdynamo.nl/node/18789
END:VEVENT
END:VCALENDAR
