BEGIN:VCALENDAR
VERSION:2.0
METHOD:PUBLISH
X-WR-CALNAME: Calendar | SV Dynamo Apeldoorn
PRODID:-//Drupal iCal API//EN
BEGIN:VEVENT
UID:calendar.18713.field_date_repeat.0.0
SUMMARY:Leden schoenenpasavond Kievit Sport
DTSTAMP:20260420T194519Z
DTSTART:20230831T150000Z
DTEND:20230831T200000Z
URL;VALUE=URI:https://svdynamo.nl/node/18713
END:VEVENT
BEGIN:VEVENT
UID:calendar.18788.field_date_repeat.0.1
SUMMARY:TC vergadering
DTSTAMP:20260420T194519Z
DTSTART:20230815T170000Z
DTEND:20230815T183000Z
URL;VALUE=URI:https://svdynamo.nl/node/18788
END:VEVENT
BEGIN:VEVENT
UID:calendar.18789.field_date_repeat.0.2
SUMMARY:Braistorm sessie STD BB
DTSTAMP:20260420T194519Z
DTSTART:20230815T170000Z
DTEND:20230822T193000Z
URL;VALUE=URI:https://svdynamo.nl/node/18789
END:VEVENT
BEGIN:VEVENT
UID:calendar.18790.field_date_repeat.0.3
SUMMARY:Bestuursvergadering STD
DTSTAMP:20260420T194519Z
DTSTART:20230823T140000Z
DTEND:20230823T160000Z
URL;VALUE=URI:https://svdynamo.nl/node/18790
END:VEVENT
BEGIN:VEVENT
UID:calendar.18805.field_date_repeat.0.4
SUMMARY:Jeugdcommissie
DTSTAMP:20260420T194519Z
DTSTART:20230816Z
DTEND:20230817Z
URL;VALUE=URI:https://svdynamo.nl/node/18805
END:VEVENT
BEGIN:VEVENT
UID:calendar.18806.field_date_repeat.0.5
SUMMARY:Vergadering socialemedia/website
DTSTAMP:20260420T194519Z
DTSTART:20230822T180000Z
DTEND:20230822T193000Z
URL;VALUE=URI:https://svdynamo.nl/node/18806
END:VEVENT
BEGIN:VEVENT
UID:calendar.18807.field_date_repeat.0.6
SUMMARY:Vergadering socialemedia/website STD
DTSTAMP:20260420T194519Z
DTSTART:20230822T180000Z
DTEND:20230822T193000Z
URL;VALUE=URI:https://svdynamo.nl/node/18807
END:VEVENT
BEGIN:VEVENT
UID:calendar.18809.field_date_repeat.0.7
SUMMARY:Dynamo Cafe open - seizoen 2023-2024
DTSTAMP:20260420T194519Z
DTSTART:20230820Z
DTEND:20230821Z
URL;VALUE=URI:https://svdynamo.nl/node/18809
END:VEVENT
END:VCALENDAR
