BEGIN:VCALENDAR
VERSION:2.0
METHOD:PUBLISH
X-WR-CALNAME: Calendar | SV Dynamo Apeldoorn
PRODID:-//Drupal iCal API//EN
BEGIN:VEVENT
UID:calendar.18700.field_date_repeat.0.0
SUMMARY:Clubhuis gesloten ivm werkzaamheden
DTSTAMP:20260420T163926Z
DTSTART:20230613Z
DTEND:20230614Z
URL;VALUE=URI:https://svdynamo.nl/node/18700
END:VEVENT
BEGIN:VEVENT
UID:calendar.18663.field_date_repeat.0.1
SUMMARY:Bestuursverg. STD
DTSTAMP:20260420T163926Z
DTSTART:20230614T140000Z
DTEND:20230614T160000Z
URL;VALUE=URI:https://svdynamo.nl/node/18663
END:VEVENT
BEGIN:VEVENT
UID:calendar.18664.field_date_repeat.0.2
SUMMARY:BB verg STD
DTSTAMP:20260420T163926Z
DTSTART:20230614T163000Z
DTEND:20230614T183000Z
URL;VALUE=URI:https://svdynamo.nl/node/18664
END:VEVENT
END:VCALENDAR
