BEGIN:VCALENDAR
VERSION:2.0
METHOD:PUBLISH
X-WR-CALNAME: Calendar | SV Dynamo Apeldoorn
PRODID:-//Drupal iCal API//EN
BEGIN:VEVENT
UID:calendar.18699.field_date_repeat.0.0
SUMMARY:Clubhuis gesloten ivm werkzaamheden
DTSTAMP:20260420T201255Z
DTSTART:20230612Z
DTEND:20230613Z
URL;VALUE=URI:https://svdynamo.nl/node/18699
END:VEVENT
END:VCALENDAR
