BEGIN:VCALENDAR
VERSION:2.0
METHOD:PUBLISH
X-WR-CALNAME: Calendar | SV Dynamo Apeldoorn
PRODID:-//Drupal iCal API//EN
BEGIN:VEVENT
UID:calendar.18676.field_date_repeat.0.0
SUMMARY:Court crew bedankt!
DTSTAMP:20260421T034900Z
DTSTART:20230516Z
DTEND:20230517Z
URL;VALUE=URI:https://svdynamo.nl/node/18676
END:VEVENT
END:VCALENDAR
