BEGIN:VCALENDAR
VERSION:2.0
METHOD:PUBLISH
X-WR-CALNAME: Calendar | SV Dynamo Apeldoorn
PRODID:-//Drupal iCal API//EN
BEGIN:VEVENT
UID:calendar.18492.field_date_repeat.6.0
SUMMARY:Jeugdcie
DTSTAMP:20260420T230742Z
DTSTART:20230501T180000Z
DTEND:20230501T180000Z
RRULE:FREQ=MONTHLY;INTERVAL=1;BYDAY=+1MO;UNTIL=20230701T215959Z;WKST=MO
URL;VALUE=URI:https://svdynamo.nl/node/18492
END:VEVENT
BEGIN:VEVENT
UID:calendar.18666.field_date_repeat.0.1
SUMMARY:Minicommissie
DTSTAMP:20260420T230742Z
DTSTART:20230511T180000Z
DTEND:20230511T200000Z
URL;VALUE=URI:https://svdynamo.nl/node/18666
END:VEVENT
BEGIN:VEVENT
UID:calendar.18476.field_date_repeat.0.2
SUMMARY:Bestuursvergadering
DTSTAMP:20260420T230742Z
DTSTART:20230511T173000Z
DTEND:20230511T193000Z
URL;VALUE=URI:https://svdynamo.nl/node/18476
END:VEVENT
BEGIN:VEVENT
UID:calendar.18462.field_date_repeat.0.3
SUMMARY:CHC Overleg
DTSTAMP:20260420T230742Z
DTSTART:20230502T173000Z
DTEND:20230502T193000Z
URL;VALUE=URI:https://svdynamo.nl/node/18462
END:VEVENT
BEGIN:VEVENT
UID:calendar.18658.field_date_repeat.0.4
SUMMARY:Afsluiting seizoen STD
DTSTAMP:20260420T230742Z
DTSTART:20230530T150000Z
DTEND:20230530T190000Z
URL;VALUE=URI:https://svdynamo.nl/node/18658
END:VEVENT
BEGIN:VEVENT
UID:calendar.18665.field_date_repeat.0.5
SUMMARY:BB verg. STD
DTSTAMP:20260420T230742Z
DTSTART:20230510T163000Z
DTEND:20230510T183000Z
URL;VALUE=URI:https://svdynamo.nl/node/18665
END:VEVENT
BEGIN:VEVENT
UID:calendar.18676.field_date_repeat.0.6
SUMMARY:Court crew bedankt!
DTSTAMP:20260420T230742Z
DTSTART:20230516Z
DTEND:20230517Z
URL;VALUE=URI:https://svdynamo.nl/node/18676
END:VEVENT
BEGIN:VEVENT
UID:calendar.18678.field_date_repeat.0.7
SUMMARY:End of the season Party
DTSTAMP:20260420T230742Z
DTSTART:20230512Z
DTEND:20230513Z
URL;VALUE=URI:https://svdynamo.nl/node/18678
END:VEVENT
BEGIN:VEVENT
UID:calendar.18680.field_date_repeat.0.8
SUMMARY:Bestuursvergadering STD
DTSTAMP:20260420T230742Z
DTSTART:20230509T170000Z
DTEND:20230509T190000Z
URL;VALUE=URI:https://svdynamo.nl/node/18680
END:VEVENT
END:VCALENDAR
