BEGIN:VCALENDAR
VERSION:2.0
METHOD:PUBLISH
X-WR-CALNAME: Calendar | SV Dynamo Apeldoorn
PRODID:-//Drupal iCal API//EN
BEGIN:VEVENT
UID:calendar.18492.field_date_repeat.5.0
SUMMARY:Jeugdcie
DTSTAMP:20260420T220836Z
DTSTART:20230403T180000Z
DTEND:20230403T180000Z
RRULE:FREQ=MONTHLY;INTERVAL=1;BYDAY=+1MO;UNTIL=20230701T215959Z;WKST=MO
URL;VALUE=URI:https://svdynamo.nl/node/18492
END:VEVENT
BEGIN:VEVENT
UID:calendar.18475.field_date_repeat.0.1
SUMMARY:Bestuursvergadering
DTSTAMP:20260420T220836Z
DTSTART:20230406T173000Z
DTEND:20230406T193000Z
URL;VALUE=URI:https://svdynamo.nl/node/18475
END:VEVENT
BEGIN:VEVENT
UID:calendar.18461.field_date_repeat.0.2
SUMMARY:CHC Overleg
DTSTAMP:20260420T220836Z
DTSTART:20230404T173000Z
DTEND:20230404T193000Z
URL;VALUE=URI:https://svdynamo.nl/node/18461
END:VEVENT
BEGIN:VEVENT
UID:calendar.18447.field_date_repeat.31.3
SUMMARY:Wedstrijd voorbereiding D1
DTSTAMP:20260420T220836Z
DTSTART:20230406T150000Z
DTEND:20230406T163000Z
RRULE:FREQ=DAILY;INTERVAL=7;UNTIL=20230427T215959Z;WKST=MO
URL;VALUE=URI:https://svdynamo.nl/node/18447
END:VEVENT
BEGIN:VEVENT
UID:calendar.18660.field_date_repeat.0.7
SUMMARY:Bestuursverg. STD
DTSTAMP:20260420T220836Z
DTSTART:20230412T140000Z
DTEND:20230412T160000Z
URL;VALUE=URI:https://svdynamo.nl/node/18660
END:VEVENT
BEGIN:VEVENT
UID:calendar.18661.field_date_repeat.0.8
SUMMARY:BB STD
DTSTAMP:20260420T220836Z
DTSTART:20230412T163000Z
DTEND:20230412T183000Z
URL;VALUE=URI:https://svdynamo.nl/node/18661
END:VEVENT
BEGIN:VEVENT
UID:calendar.18667.field_date_repeat.0.9
SUMMARY:Minikamp
DTSTAMP:20260420T220836Z
DTSTART:20230404T183000Z
DTEND:20230404T200000Z
URL;VALUE=URI:https://svdynamo.nl/node/18667
END:VEVENT
END:VCALENDAR
