BEGIN:VCALENDAR
VERSION:2.0
METHOD:PUBLISH
X-WR-CALNAME: Calendar | SV Dynamo Apeldoorn
PRODID:-//Drupal iCal API//EN
BEGIN:VEVENT
UID:calendar.18447.field_date_repeat.29.0
SUMMARY:Wedstrijd voorbereiding D1
DTSTAMP:20260420T182721Z
DTSTART:20230323T160000Z
DTEND:20230323T173000Z
RRULE:FREQ=DAILY;INTERVAL=7;UNTIL=20230427T215959Z;WKST=MO
URL;VALUE=URI:https://svdynamo.nl/node/18447
END:VEVENT
BEGIN:VEVENT
UID:calendar.18648.field_date_repeat.0.1
SUMMARY:Minicommissie
DTSTAMP:20260420T182721Z
DTSTART:20230323T190000Z
DTEND:20230323T210000Z
URL;VALUE=URI:https://svdynamo.nl/node/18648
END:VEVENT
END:VCALENDAR
