BEGIN:VCALENDAR
VERSION:2.0
METHOD:PUBLISH
X-WR-CALNAME: Calendar | SV Dynamo Apeldoorn
PRODID:-//Drupal iCal API//EN
BEGIN:VEVENT
UID:calendar.18447.field_date_repeat.28.0
SUMMARY:Wedstrijd voorbereiding D1
DTSTAMP:20260420T181749Z
DTSTART:20230316T160000Z
DTEND:20230316T173000Z
RRULE:FREQ=DAILY;INTERVAL=7;UNTIL=20230427T215959Z;WKST=MO
URL;VALUE=URI:https://svdynamo.nl/node/18447
END:VEVENT
END:VCALENDAR
