BEGIN:VCALENDAR
VERSION:2.0
METHOD:PUBLISH
X-WR-CALNAME: Calendar | SV Dynamo Apeldoorn
PRODID:-//Drupal iCal API//EN
BEGIN:VEVENT
UID:calendar.18460.field_date_repeat.0.0
SUMMARY:CHC Overleg
DTSTAMP:20260421T072614Z
DTSTART:20230307T183000Z
DTEND:20230307T203000Z
URL;VALUE=URI:https://svdynamo.nl/node/18460
END:VEVENT
END:VCALENDAR
