BEGIN:VCALENDAR
VERSION:2.0
METHOD:PUBLISH
X-WR-CALNAME: Calendar | SV Dynamo Apeldoorn
PRODID:-//Drupal iCal API//EN
BEGIN:VEVENT
UID:calendar.18630.field_date_repeat.0.0
SUMMARY:Minicommissie
DTSTAMP:20260420T202937Z
DTSTART:20230221T190000Z
DTEND:20230221T210000Z
URL;VALUE=URI:https://svdynamo.nl/node/18630
END:VEVENT
END:VCALENDAR
