BEGIN:VCALENDAR
VERSION:2.0
METHOD:PUBLISH
X-WR-CALNAME: Calendar | SV Dynamo Apeldoorn
PRODID:-//Drupal iCal API//EN
BEGIN:VEVENT
UID:calendar.18459.field_date_repeat.0.0
SUMMARY:CHC Overleg
DTSTAMP:20260420T204323Z
DTSTART:20230214T183000Z
DTEND:20230214T203000Z
URL;VALUE=URI:https://svdynamo.nl/node/18459
END:VEVENT
END:VCALENDAR
