BEGIN:VCALENDAR
VERSION:2.0
METHOD:PUBLISH
X-WR-CALNAME: Calendar | SV Dynamo Apeldoorn
PRODID:-//Drupal iCal API//EN
BEGIN:VEVENT
UID:calendar.18535.field_date_repeat.0.0
SUMMARY:Minicommissie
DTSTAMP:20260421T032946Z
DTSTART:20230110T190000Z
DTEND:20230110T213000Z
URL;VALUE=URI:https://svdynamo.nl/node/18535
END:VEVENT
END:VCALENDAR
