BEGIN:VCALENDAR
VERSION:2.0
METHOD:PUBLISH
X-WR-CALNAME: Calendar | SV Dynamo Apeldoorn
PRODID:-//Drupal iCal API//EN
BEGIN:VEVENT
UID:calendar.18458.field_date_repeat.0.0
SUMMARY:CHC Overleg
DTSTAMP:20260421T034615Z
DTSTART:20230103T183000Z
DTEND:20230103T203000Z
URL;VALUE=URI:https://svdynamo.nl/node/18458
END:VEVENT
END:VCALENDAR
